BEGIN:VCALENDAR
VERSION:2.0
PRODID:-//KNOWAutism Foundation - ECPv6.15.20//NONSGML v1.0//EN
CALSCALE:GREGORIAN
METHOD:PUBLISH
X-WR-CALNAME:KNOWAutism Foundation
X-ORIGINAL-URL:https://knowautism.creative-juice.co
X-WR-CALDESC:Events for KNOWAutism Foundation
REFRESH-INTERVAL;VALUE=DURATION:PT1H
X-Robots-Tag:noindex
X-PUBLISHED-TTL:PT1H
BEGIN:VTIMEZONE
TZID:America/Chicago
BEGIN:DAYLIGHT
TZOFFSETFROM:-0600
TZOFFSETTO:-0500
TZNAME:CDT
DTSTART:20240310T080000
END:DAYLIGHT
BEGIN:STANDARD
TZOFFSETFROM:-0500
TZOFFSETTO:-0600
TZNAME:CST
DTSTART:20241103T070000
END:STANDARD
BEGIN:DAYLIGHT
TZOFFSETFROM:-0600
TZOFFSETTO:-0500
TZNAME:CDT
DTSTART:20250309T080000
END:DAYLIGHT
BEGIN:STANDARD
TZOFFSETFROM:-0500
TZOFFSETTO:-0600
TZNAME:CST
DTSTART:20251102T070000
END:STANDARD
BEGIN:DAYLIGHT
TZOFFSETFROM:-0600
TZOFFSETTO:-0500
TZNAME:CDT
DTSTART:20260308T080000
END:DAYLIGHT
BEGIN:STANDARD
TZOFFSETFROM:-0500
TZOFFSETTO:-0600
TZNAME:CST
DTSTART:20261101T070000
END:STANDARD
END:VTIMEZONE
BEGIN:VEVENT
DTSTART;TZID=America/Chicago:20250412T180000
DTEND;TZID=America/Chicago:20250412T233000
DTSTAMP:20260423T174025
CREATED:20250129T153547Z
LAST-MODIFIED:20250202T174143Z
UID:3416-1744480800-1744500600@knowautism.creative-juice.co
SUMMARY:A BlueTiful Minds Gala 2025
DESCRIPTION:Houston\, the countdown is on!\nYou don’t want to miss your chance to attend the 2025 A Bluetiful Minds Gala – Shining a Light on Autism! Join us for an unforgettable evening dedicated to celebrating inclusion\, acceptance\, and hope while supporting vital programs for individuals with autism and their families. This glitzy night promises to be filled with joy\, inspiration\, and community spirit as we raise awareness and funds for a cause that touches many lives. \nMark your calendars for April 12\, 2025\, at the stunning Royal Sonesta Houston Galleria. The festivities kick off at 6:00 PM and will continue until 11:30 PM. Enjoy a delightful cocktail reception\, a seated dinner\, and an exciting live and silent auction featuring unique items and experiences. Throughout the evening\, you’ll be entertained by special performances and hear inspiring stories from families impacted by autism. \nTickets are going fast—reserve yours now to ensure you’re part of this magical night: Reserve Tickets \nInterested in sponsoring the event? Learn More About Sponsorship \nLet’s shine a light on autism and make a difference in our community! \n  \n \n  \nRegister          Sponsor \n  \n  \nThank You To Our Sponsors!
URL:https://knowautism.creative-juice.co/event/a-bluetiful-minds-gala-2025/
LOCATION:The Royal Sonesta\, 2222 W Loop S\,\, Houston\, TX\, 77027\, United States
CATEGORIES:Gala
ORGANIZER;CN="KNOWAutism Foundation":MAILTO:info@know-autism.org
END:VEVENT
END:VCALENDAR