BEGIN:VCALENDAR
VERSION:2.0
PRODID:-//KNOWAutism Foundation - ECPv6.15.20//NONSGML v1.0//EN
CALSCALE:GREGORIAN
METHOD:PUBLISH
X-WR-CALNAME:KNOWAutism Foundation
X-ORIGINAL-URL:https://knowautism.creative-juice.co
X-WR-CALDESC:Events for KNOWAutism Foundation
REFRESH-INTERVAL;VALUE=DURATION:PT1H
X-Robots-Tag:noindex
X-PUBLISHED-TTL:PT1H
BEGIN:VTIMEZONE
TZID:America/Chicago
BEGIN:DAYLIGHT
TZOFFSETFROM:-0600
TZOFFSETTO:-0500
TZNAME:CDT
DTSTART:20230312T080000
END:DAYLIGHT
BEGIN:STANDARD
TZOFFSETFROM:-0500
TZOFFSETTO:-0600
TZNAME:CST
DTSTART:20231105T070000
END:STANDARD
BEGIN:DAYLIGHT
TZOFFSETFROM:-0600
TZOFFSETTO:-0500
TZNAME:CDT
DTSTART:20240310T080000
END:DAYLIGHT
BEGIN:STANDARD
TZOFFSETFROM:-0500
TZOFFSETTO:-0600
TZNAME:CST
DTSTART:20241103T070000
END:STANDARD
BEGIN:DAYLIGHT
TZOFFSETFROM:-0600
TZOFFSETTO:-0500
TZNAME:CDT
DTSTART:20250309T080000
END:DAYLIGHT
BEGIN:STANDARD
TZOFFSETFROM:-0500
TZOFFSETTO:-0600
TZNAME:CST
DTSTART:20251102T070000
END:STANDARD
END:VTIMEZONE
BEGIN:VEVENT
DTSTART;VALUE=DATE:20240405
DTEND;VALUE=DATE:20240406
DTSTAMP:20260423T191555
CREATED:20240205T204355Z
LAST-MODIFIED:20240205T204750Z
UID:1564-1712275200-1712361599@knowautism.creative-juice.co
SUMMARY:An Enchanted Evening Gala 2024
DESCRIPTION:  \n  \n  \nYou are invited to experience… \nAn Enchanted Evening\nFriday\, April 5\, 2024\nThe Royal Sonesta\nStep into a realm of wonder and compassion at the KNOWAutism Foundation’s 2024 Gala\, An Enchanted Evening\, a magical event dedicated to supporting children and young adults with autism spectrum disorders. Join us for an unforgettable evening that combines the enchantment of fantasy with the warmth of community\, magic\, and wonder\, all in the name of this noble cause. \nAs twilight falls\, the magic will come alive with elegance and wonder. Sip enchanting elixirs from our magical potion bar and enjoy live entertainment that will transport you to a different realm. From spellbinding musical performances to mesmerizing illusionists\, the night will be filled with surprises\, leaving you in awe.
URL:https://knowautism.creative-juice.co/event/an-enchanted-evening-gala-2024/
LOCATION:The Royal Sonesta\, 2222 W Loop S\,\, Houston\, TX\, 77027\, United States
CATEGORIES:Gala
ATTACH;FMTTYPE=image/jpeg:https://knowautism.creative-juice.co/wp-content/uploads/2024/01/Enchanted-Evening-hi-1.jpg
END:VEVENT
END:VCALENDAR